BEGIN:VCALENDAR
VERSION:2.0
PRODID:-//PYVOBJECT//NONSGML Version 0.9.9//EN
X-WR-TIMEZONE:Africa/Johannesburg
BEGIN:VTIMEZONE
TZID:Africa/Johannesburg
BEGIN:STANDARD
DTSTART:20000101T000000
RRULE:FREQ=YEARLY;BYMONTH=1
TZNAME:SAST
TZOFFSETFROM:+0200
TZOFFSETTO:+0200
END:STANDARD
END:VTIMEZONE
BEGIN:VEVENT
UID:20260423T032809Z - 30566@eos-content
DTSTART;TZID=Africa/Johannesburg:20260428T090000
DTEND;TZID=Africa/Johannesburg:20260428T100000
ATTENDEE:MAILTO:tamarin@propertyworld.co.za
DESCRIPTION:https://www.propertyworld.co.za/results/residential/for-sale/mi
 lnerton/century-city/apartment/3078567/2204-the-bridges-1-ratanga-park/\n\
 nPlease contact Tamarin Smith - 084 301 8616\n\nTamarin Smith (084 301 861
 6)
DTSTAMP:20260423T032809Z
LOCATION:2204 The Bridges\, 1 Ratanga Park\, Century City\, Milnerton
SUMMARY:Property World Show Day - RL1876249
END:VEVENT
END:VCALENDAR
